BEGIN:VCALENDAR
VERSION:2.0
PRODID:-//YOUR CHURCH - ECPv6.1.3//NONSGML v1.0//EN
CALSCALE:GREGORIAN
METHOD:PUBLISH
X-ORIGINAL-URL:https://your-church.de
X-WR-CALDESC:Veranstaltungen fÃ¼r YOUR CHURCH
REFRESH-INTERVAL;VALUE=DURATION:PT1H
X-Robots-Tag:noindex
X-PUBLISHED-TTL:PT1H
BEGIN:VTIMEZONE
TZID:Europe/Berlin
BEGIN:DAYLIGHT
TZOFFSETFROM:+0100
TZOFFSETTO:+0200
TZNAME:CEST
DTSTART:20250330T010000
END:DAYLIGHT
BEGIN:STANDARD
TZOFFSETFROM:+0200
TZOFFSETTO:+0100
TZNAME:CET
DTSTART:20251026T010000
END:STANDARD
BEGIN:DAYLIGHT
TZOFFSETFROM:+0100
TZOFFSETTO:+0200
TZNAME:CEST
DTSTART:20260329T010000
END:DAYLIGHT
BEGIN:STANDARD
TZOFFSETFROM:+0200
TZOFFSETTO:+0100
TZNAME:CET
DTSTART:20261025T010000
END:STANDARD
END:VTIMEZONE
BEGIN:VEVENT
DTSTART;TZID=Europe/Berlin:20260419T103000
DTEND;TZID=Europe/Berlin:20260419T120000
DTSTAMP:20260420T124904
CREATED:20260302T111537Z
LAST-MODIFIED:20260302T111537Z
UID:5844-1776594600-1776600000@your-church.de
SUMMARY:Lobpreis & Anbetung
DESCRIPTION:
URL:https://your-church.de/event/lobpreis-anbetung-16/
LOCATION:YOUR CHURCH\, Von-Koenig-StraÃŸe 6\, Sachsenheim\, 74343\, Deutschland
CATEGORIES:Gottesdienst,Lo & An
ATTACH;FMTTYPE=image/jpeg:https://your-church.de/wp-content/uploads/2024/06/Lobpreis-Anbetung.jpg
END:VEVENT
BEGIN:VEVENT
DTSTART;TZID=Europe/Berlin:20260412T103000
DTEND;TZID=Europe/Berlin:20260412T160000
DTSTAMP:20260420T124904
CREATED:20260305T143404Z
LAST-MODIFIED:20260305T143404Z
UID:5849-1775989800-1776009600@your-church.de
SUMMARY:Familiengottesdienst
DESCRIPTION:Am 12. April mÃ¶chten wir uns zusammen mit dem Christlichen Zentrum Stuttgart fÃ¼r einen Familiengottesdienst treffen. \nTreffpunkt:\nUm 10:30 Uhr am Jugendhaus Haus 11 in der Bartensteiner Str. 11 in Zuffenhausen. Dort verbringen wir den restlichen Tag miteinander in lockerer AtmosphÃ¤re. \nBitte bringt fÃ¼r das Bring & Share Buffet etwas zum Essen mit. Geschirr und Besteck sollte auch jeder dabei haben. GetrÃ¤nke kÃ¶nnt ihr entweder selbst mitbringen oder auch vor Ort kaufen. \nFalls ihr eine Mitfahrgelegenheit benÃ¶tigt oder ihr nicht alleine anreisen mÃ¶chtet\, meldet euch gerne bei unserer Pastorin Esther Schmiegel: pastorin@your-church.de \n  \nWeitere Infos: CZS unterwegs â€“ mehr als ein Gottesdienst â€“ CZ Stuttgart
URL:https://your-church.de/event/familiengottesdienst/
CATEGORIES:Gottesdienst
ATTACH;FMTTYPE=image/png:https://your-church.de/wp-content/uploads/2026/03/FamilienGodi-CZS.png
END:VEVENT
BEGIN:VEVENT
DTSTART;TZID=Europe/Berlin:20260405T103000
DTEND;TZID=Europe/Berlin:20260405T120000
DTSTAMP:20260420T124904
CREATED:20260302T111445Z
LAST-MODIFIED:20260302T111725Z
UID:5842-1775385000-1775390400@your-church.de
SUMMARY:Ostergottesdienst
DESCRIPTION:
URL:https://your-church.de/event/ostergottesdienst/
LOCATION:YOUR CHURCH\, Von-Koenig-StraÃŸe 6\, Sachsenheim\, 74343\, Deutschland
CATEGORIES:Gottesdienst,Ostern
ATTACH;FMTTYPE=image/jpeg:https://your-church.de/wp-content/uploads/2025/03/Ostern.jpg
END:VEVENT
BEGIN:VEVENT
DTSTART;TZID=Europe/Berlin:20260403T100000
DTEND;TZID=Europe/Berlin:20260403T130000
DTSTAMP:20260420T124904
CREATED:20260302T111403Z
LAST-MODIFIED:20260302T111403Z
UID:5840-1775210400-1775221200@your-church.de
SUMMARY:Karfreitag
DESCRIPTION:Dieser Gottesdienst ist anders: Es gibt keine Predigt\, keine Lobpreiszeit\, kein festes Programm &#8211; nur Dich und Gott. \nZwischen 10 und 13 Uhr kann dieser â€žGottesdienst der Stilleâ€œ in unserem Gemeindehaus in Sachsenheim erlebt werden. Jeder entscheidet fÃ¼r sich\, wann er startet und endet. \nAlle sind herzlich eingeladen\, den Karfreitag in dieser Weise zu erleben und Gottes Liebe zu erfahren. Die Kinder kÃ¶nnen von 10:30-11:45 Uhr von uns betreut werden.
URL:https://your-church.de/event/karfreitag/
LOCATION:YOUR CHURCH\, Von-Koenig-StraÃŸe 6\, Sachsenheim\, 74343\, Deutschland
ATTACH;FMTTYPE=image/jpeg:https://your-church.de/wp-content/uploads/2025/03/Karfreitag.jpg
END:VEVENT
BEGIN:VEVENT
DTSTART;TZID=Europe/Berlin:20260329T103000
DTEND;TZID=Europe/Berlin:20260329T120000
DTSTAMP:20260420T124904
CREATED:20260112T105438Z
LAST-MODIFIED:20260112T105438Z
UID:5831-1774780200-1774785600@your-church.de
SUMMARY:Quality Time
DESCRIPTION:
URL:https://your-church.de/event/quality-time-20/
LOCATION:YOUR CHURCH\, Von-Koenig-StraÃŸe 6\, Sachsenheim\, 74343\, Deutschland
CATEGORIES:Gottesdienst,Quality Time
ATTACH;FMTTYPE=image/jpeg:https://your-church.de/wp-content/uploads/2024/06/Quality-Time.jpg
END:VEVENT
BEGIN:VEVENT
DTSTART;TZID=Europe/Berlin:20260322T103000
DTEND;TZID=Europe/Berlin:20260322T120000
DTSTAMP:20260420T124904
CREATED:20260112T105402Z
LAST-MODIFIED:20260119T093109Z
UID:5829-1774175400-1774180800@your-church.de
SUMMARY:Gottesdienst & Essen
DESCRIPTION:Wir mÃ¶chten uns nach dem Gottesdienst ein &#8222;Bring and Share Buffet&#8220; teilen.
URL:https://your-church.de/event/gottesdienst-essen-13/
LOCATION:YOUR CHURCH\, Von-Koenig-StraÃŸe 6\, Sachsenheim\, 74343\, Deutschland
CATEGORIES:Essen,Gottesdienst
ATTACH;FMTTYPE=image/jpeg:https://your-church.de/wp-content/uploads/2025/12/GoDi-Buffet.jpg
END:VEVENT
BEGIN:VEVENT
DTSTART;TZID=Europe/Berlin:20260315T103000
DTEND;TZID=Europe/Berlin:20260315T120000
DTSTAMP:20260420T124904
CREATED:20260112T105306Z
LAST-MODIFIED:20260112T105306Z
UID:5827-1773570600-1773576000@your-church.de
SUMMARY:Lobpreis & Anbetung
DESCRIPTION:
URL:https://your-church.de/event/lobpreis-anbetung-15/
LOCATION:YOUR CHURCH\, Von-Koenig-StraÃŸe 6\, Sachsenheim\, 74343\, Deutschland
CATEGORIES:Gottesdienst,Lo & An
ATTACH;FMTTYPE=image/jpeg:https://your-church.de/wp-content/uploads/2024/06/Lobpreis-Anbetung.jpg
END:VEVENT
BEGIN:VEVENT
DTSTART;TZID=Europe/Berlin:20260308T103000
DTEND;TZID=Europe/Berlin:20260308T120000
DTSTAMP:20260420T124904
CREATED:20260112T105229Z
LAST-MODIFIED:20260112T105229Z
UID:5825-1772965800-1772971200@your-church.de
SUMMARY:Gottesdienst
DESCRIPTION:
URL:https://your-church.de/event/gottesdienst-25/
LOCATION:YOUR CHURCH\, Von-Koenig-StraÃŸe 6\, Sachsenheim\, 74343\, Deutschland
CATEGORIES:Gottesdienst
ATTACH;FMTTYPE=image/jpeg:https://your-church.de/wp-content/uploads/2024/06/Gottesdienst.jpg
END:VEVENT
BEGIN:VEVENT
DTSTART;TZID=Europe/Berlin:20260301T103000
DTEND;TZID=Europe/Berlin:20260301T120000
DTSTAMP:20260420T124904
CREATED:20260112T105158Z
LAST-MODIFIED:20260112T105637Z
UID:5823-1772361000-1772366400@your-church.de
SUMMARY:Quality Time
DESCRIPTION:
URL:https://your-church.de/event/quality-time-19/
LOCATION:YOUR CHURCH\, Von-Koenig-StraÃŸe 6\, Sachsenheim\, 74343\, Deutschland
CATEGORIES:Gottesdienst,Quality Time
ATTACH;FMTTYPE=image/jpeg:https://your-church.de/wp-content/uploads/2024/06/Quality-Time.jpg
END:VEVENT
BEGIN:VEVENT
DTSTART;TZID=Europe/Berlin:20260222T103000
DTEND;TZID=Europe/Berlin:20260222T120000
DTSTAMP:20260420T124904
CREATED:20260112T105119Z
LAST-MODIFIED:20260119T093039Z
UID:5821-1771756200-1771761600@your-church.de
SUMMARY:Gottesdienst & Essen
DESCRIPTION:Wir mÃ¶chten uns nach dem Gottesdienst ein &#8222;Bring and Share Buffet&#8220; teilen.
URL:https://your-church.de/event/gottesdienst-essen-12/
LOCATION:YOUR CHURCH\, Von-Koenig-StraÃŸe 6\, Sachsenheim\, 74343\, Deutschland
CATEGORIES:Essen,Gottesdienst
ATTACH;FMTTYPE=image/jpeg:https://your-church.de/wp-content/uploads/2025/12/GoDi-Buffet.jpg
END:VEVENT
BEGIN:VEVENT
DTSTART;TZID=Europe/Berlin:20260215T103000
DTEND;TZID=Europe/Berlin:20260215T120000
DTSTAMP:20260420T124904
CREATED:20260112T104947Z
LAST-MODIFIED:20260112T104947Z
UID:5819-1771151400-1771156800@your-church.de
SUMMARY:Lobpreis & Anbetung
DESCRIPTION:
URL:https://your-church.de/event/lobpreis-anbetung-14/
LOCATION:YOUR CHURCH\, Von-Koenig-StraÃŸe 6\, Sachsenheim\, 74343\, Deutschland
CATEGORIES:Gottesdienst,Lo & An
ATTACH;FMTTYPE=image/jpeg:https://your-church.de/wp-content/uploads/2024/06/Lobpreis-Anbetung.jpg
END:VEVENT
BEGIN:VEVENT
DTSTART;TZID=Europe/Berlin:20260208T103000
DTEND;TZID=Europe/Berlin:20260208T120000
DTSTAMP:20260420T124904
CREATED:20260112T104905Z
LAST-MODIFIED:20260112T104905Z
UID:5817-1770546600-1770552000@your-church.de
SUMMARY:Gottesdienst
DESCRIPTION:
URL:https://your-church.de/event/gottesdienst-24/
LOCATION:YOUR CHURCH\, Von-Koenig-StraÃŸe 6\, Sachsenheim\, 74343\, Deutschland
CATEGORIES:Gottesdienst
ATTACH;FMTTYPE=image/jpeg:https://your-church.de/wp-content/uploads/2024/06/Gottesdienst.jpg
END:VEVENT
BEGIN:VEVENT
DTSTART;TZID=Europe/Berlin:20260201T103000
DTEND;TZID=Europe/Berlin:20260201T120000
DTSTAMP:20260420T124904
CREATED:20251215T120625Z
LAST-MODIFIED:20251215T120625Z
UID:5811-1769941800-1769947200@your-church.de
SUMMARY:Quality Time
DESCRIPTION:
URL:https://your-church.de/event/quality-time-18/
LOCATION:YOUR CHURCH\, Von-Koenig-StraÃŸe 6\, Sachsenheim\, 74343\, Deutschland
CATEGORIES:Gottesdienst,Quality Time
ATTACH;FMTTYPE=image/jpeg:https://your-church.de/wp-content/uploads/2024/06/Quality-Time.jpg
END:VEVENT
BEGIN:VEVENT
DTSTART;TZID=Europe/Berlin:20260125T103000
DTEND;TZID=Europe/Berlin:20260125T120000
DTSTAMP:20260420T124904
CREATED:20251215T120546Z
LAST-MODIFIED:20260119T093018Z
UID:5809-1769337000-1769342400@your-church.de
SUMMARY:Gottesdienst & Essen
DESCRIPTION:Wir mÃ¶chten uns nach dem Gottesdienst ein &#8222;Bring and Share Buffet&#8220; teilen.
URL:https://your-church.de/event/gottesdienst-essen-11/
LOCATION:YOUR CHURCH\, Von-Koenig-StraÃŸe 6\, Sachsenheim\, 74343\, Deutschland
CATEGORIES:Essen,Gottesdienst
ATTACH;FMTTYPE=image/jpeg:https://your-church.de/wp-content/uploads/2025/12/GoDi-Buffet.jpg
END:VEVENT
BEGIN:VEVENT
DTSTART;TZID=Europe/Berlin:20260118T103000
DTEND;TZID=Europe/Berlin:20260118T120000
DTSTAMP:20260420T124904
CREATED:20251215T120439Z
LAST-MODIFIED:20251215T120439Z
UID:5807-1768732200-1768737600@your-church.de
SUMMARY:Gottesdienst
DESCRIPTION:
URL:https://your-church.de/event/gottesdienst-23/
LOCATION:YOUR CHURCH\, Von-Koenig-StraÃŸe 6\, Sachsenheim\, 74343\, Deutschland
CATEGORIES:Gottesdienst
ATTACH;FMTTYPE=image/jpeg:https://your-church.de/wp-content/uploads/2024/06/Gottesdienst.jpg
END:VEVENT
BEGIN:VEVENT
DTSTART;TZID=Europe/Berlin:20260111T103000
DTEND;TZID=Europe/Berlin:20260111T120000
DTSTAMP:20260420T124904
CREATED:20251215T122516Z
LAST-MODIFIED:20251215T122516Z
UID:5813-1768127400-1768132800@your-church.de
SUMMARY:Kein Gottesdienst
DESCRIPTION:Wir dÃ¼rfen am Samstag als YOUR CHURCH Gottesdienst auf einer Hochzeit feiern.\nDeshalb wird am Sonntag\, den 11. Januar 2026\, kein Gottesdienst im Gemeindehaus stattfinden. Wir freuen uns\, euch am 18. Januar wieder zu sehen!
URL:https://your-church.de/event/kein-gottesdienst/
ATTACH;FMTTYPE=image/jpeg:https://your-church.de/wp-content/uploads/2025/12/Kein-GoDi-wegen-Hochzeit.jpg
END:VEVENT
BEGIN:VEVENT
DTSTART;TZID=Europe/Berlin:20260104T103000
DTEND;TZID=Europe/Berlin:20260104T120000
DTSTAMP:20260420T124904
CREATED:20251215T120349Z
LAST-MODIFIED:20251215T120349Z
UID:5805-1767522600-1767528000@your-church.de
SUMMARY:Quality Time
DESCRIPTION:
URL:https://your-church.de/event/quality-time-17/
LOCATION:YOUR CHURCH\, Von-Koenig-StraÃŸe 6\, Sachsenheim\, 74343\, Deutschland
CATEGORIES:Gottesdienst,Quality Time
ATTACH;FMTTYPE=image/jpeg:https://your-church.de/wp-content/uploads/2024/06/Quality-Time.jpg
END:VEVENT
BEGIN:VEVENT
DTSTART;TZID=Europe/Berlin:20251228T103000
DTEND;TZID=Europe/Berlin:20251228T120000
DTSTAMP:20260420T124904
CREATED:20251112T154515Z
LAST-MODIFIED:20251112T154515Z
UID:5802-1766917800-1766923200@your-church.de
SUMMARY:Gottesdienst
DESCRIPTION:
URL:https://your-church.de/event/gottesdienst-22/
LOCATION:YOUR CHURCH\, Von-Koenig-StraÃŸe 6\, Sachsenheim\, 74343\, Deutschland
CATEGORIES:Gottesdienst
ATTACH;FMTTYPE=image/jpeg:https://your-church.de/wp-content/uploads/2024/06/Gottesdienst.jpg
END:VEVENT
BEGIN:VEVENT
DTSTART;TZID=Europe/Berlin:20251224T160000
DTEND;TZID=Europe/Berlin:20251224T170000
DTSTAMP:20260420T124904
CREATED:20251112T154437Z
LAST-MODIFIED:20251112T154437Z
UID:5799-1766592000-1766595600@your-church.de
SUMMARY:Heiligabend
DESCRIPTION:
URL:https://your-church.de/event/heiligabend-2/
LOCATION:YOUR CHURCH\, Von-Koenig-StraÃŸe 6\, Sachsenheim\, 74343\, Deutschland
CATEGORIES:Gottesdienst,Weihnachten
ATTACH;FMTTYPE=image/jpeg:https://your-church.de/wp-content/uploads/2025/11/Heiligabend-2025.jpg
END:VEVENT
BEGIN:VEVENT
DTSTART;TZID=Europe/Berlin:20251221T103000
DTEND;TZID=Europe/Berlin:20251221T120000
DTSTAMP:20260420T124904
CREATED:20251112T154351Z
LAST-MODIFIED:20251112T154351Z
UID:5797-1766313000-1766318400@your-church.de
SUMMARY:Gottesdienst
DESCRIPTION:
URL:https://your-church.de/event/gottesdienst-21/
LOCATION:YOUR CHURCH\, Von-Koenig-StraÃŸe 6\, Sachsenheim\, 74343\, Deutschland
CATEGORIES:Gottesdienst
ATTACH;FMTTYPE=image/jpeg:https://your-church.de/wp-content/uploads/2024/06/Gottesdienst.jpg
END:VEVENT
BEGIN:VEVENT
DTSTART;TZID=Europe/Berlin:20251214T103000
DTEND;TZID=Europe/Berlin:20251214T120000
DTSTAMP:20260420T124904
CREATED:20251112T154256Z
LAST-MODIFIED:20251112T154256Z
UID:5795-1765708200-1765713600@your-church.de
SUMMARY:Quality Time
DESCRIPTION:
URL:https://your-church.de/event/quality-time-16/
LOCATION:YOUR CHURCH\, Von-Koenig-StraÃŸe 6\, Sachsenheim\, 74343\, Deutschland
CATEGORIES:Gottesdienst,Quality Time
ATTACH;FMTTYPE=image/jpeg:https://your-church.de/wp-content/uploads/2024/06/Quality-Time.jpg
END:VEVENT
BEGIN:VEVENT
DTSTART;TZID=Europe/Berlin:20251207T103000
DTEND;TZID=Europe/Berlin:20251207T110000
DTSTAMP:20260420T124904
CREATED:20251112T154208Z
LAST-MODIFIED:20251112T154208Z
UID:5792-1765103400-1765105200@your-church.de
SUMMARY:Gottesdienst
DESCRIPTION:Wir mÃ¶chten an diesem Tag einen besonderen Gottesdienst feiern. Treffpunkt ist wie gewohnt um 10:30 Uhr im Gemeindehaus\, dort werden wir eine Kurzpredigt hÃ¶ren.\nDanach gehen wir gemeinsam auf den Weihnachtsmarkt\, um dort prÃ¤sent zu sein.
URL:https://your-church.de/event/gottesdienst-20/
LOCATION:YOUR CHURCH\, Von-Koenig-StraÃŸe 6\, Sachsenheim\, 74343\, Deutschland
CATEGORIES:Gottesdienst
ATTACH;FMTTYPE=image/jpeg:https://your-church.de/wp-content/uploads/2025/11/Weihnachtsmarkt-2025.jpg
END:VEVENT
BEGIN:VEVENT
DTSTART;TZID=Europe/Berlin:20251130T103000
DTEND;TZID=Europe/Berlin:20251130T120000
DTSTAMP:20260420T124904
CREATED:20251016T133203Z
LAST-MODIFIED:20251112T152704Z
UID:5788-1764498600-1764504000@your-church.de
SUMMARY:Gottesdienst & Essen
DESCRIPTION:
URL:https://your-church.de/event/gottesdienst-19/
LOCATION:YOUR CHURCH\, Von-Koenig-StraÃŸe 6\, Sachsenheim\, 74343\, Deutschland
CATEGORIES:Essen,Gottesdienst
ATTACH;FMTTYPE=image/jpeg:https://your-church.de/wp-content/uploads/2024/06/GoDi-Essen.jpg
END:VEVENT
BEGIN:VEVENT
DTSTART;TZID=Europe/Berlin:20251123T103000
DTEND;TZID=Europe/Berlin:20251123T120000
DTSTAMP:20260420T124904
CREATED:20251016T133134Z
LAST-MODIFIED:20251016T133134Z
UID:5786-1763893800-1763899200@your-church.de
SUMMARY:Gottesdienst
DESCRIPTION:
URL:https://your-church.de/event/gottesdienst-18/
LOCATION:YOUR CHURCH\, Von-Koenig-StraÃŸe 6\, Sachsenheim\, 74343\, Deutschland
CATEGORIES:Gottesdienst
ATTACH;FMTTYPE=image/jpeg:https://your-church.de/wp-content/uploads/2024/06/Gottesdienst.jpg
END:VEVENT
BEGIN:VEVENT
DTSTART;TZID=Europe/Berlin:20251116T103000
DTEND;TZID=Europe/Berlin:20251116T120000
DTSTAMP:20260420T124904
CREATED:20251016T133056Z
LAST-MODIFIED:20251016T133056Z
UID:5784-1763289000-1763294400@your-church.de
SUMMARY:Quality Time
DESCRIPTION:
URL:https://your-church.de/event/quality-time-15/
LOCATION:YOUR CHURCH\, Von-Koenig-StraÃŸe 6\, Sachsenheim\, 74343\, Deutschland
CATEGORIES:Gottesdienst,Quality Time
ATTACH;FMTTYPE=image/jpeg:https://your-church.de/wp-content/uploads/2024/06/Quality-Time.jpg
END:VEVENT
BEGIN:VEVENT
DTSTART;TZID=Europe/Berlin:20251109T103000
DTEND;TZID=Europe/Berlin:20251109T120000
DTSTAMP:20260420T124904
CREATED:20251016T132957Z
LAST-MODIFIED:20251016T132957Z
UID:5782-1762684200-1762689600@your-church.de
SUMMARY:Lobpreis & Anbetung
DESCRIPTION:
URL:https://your-church.de/event/lobpreis-anbetung-13/
LOCATION:YOUR CHURCH\, Von-Koenig-StraÃŸe 6\, Sachsenheim\, 74343\, Deutschland
CATEGORIES:Gottesdienst,Lo & An
ATTACH;FMTTYPE=image/jpeg:https://your-church.de/wp-content/uploads/2024/06/Lobpreis-Anbetung.jpg
END:VEVENT
BEGIN:VEVENT
DTSTART;TZID=Europe/Berlin:20251102T103000
DTEND;TZID=Europe/Berlin:20251102T120000
DTSTAMP:20260420T124904
CREATED:20251016T132907Z
LAST-MODIFIED:20251016T132907Z
UID:5780-1762079400-1762084800@your-church.de
SUMMARY:Gottesdienst
DESCRIPTION:
URL:https://your-church.de/event/gottesdienst-17/
LOCATION:YOUR CHURCH\, Von-Koenig-StraÃŸe 6\, Sachsenheim\, 74343\, Deutschland
CATEGORIES:Gottesdienst
ATTACH;FMTTYPE=image/jpeg:https://your-church.de/wp-content/uploads/2024/06/Gottesdienst.jpg
END:VEVENT
BEGIN:VEVENT
DTSTART;TZID=Europe/Berlin:20251026T103000
DTEND;TZID=Europe/Berlin:20251026T120000
DTSTAMP:20260420T124904
CREATED:20250828T134733Z
LAST-MODIFIED:20250828T135212Z
UID:5772-1761474600-1761480000@your-church.de
SUMMARY:Quality Time
DESCRIPTION:
URL:https://your-church.de/event/quality-time-14/
LOCATION:YOUR CHURCH\, Von-Koenig-StraÃŸe 6\, Sachsenheim\, 74343\, Deutschland
CATEGORIES:Gottesdienst,Quality Time
ATTACH;FMTTYPE=image/jpeg:https://your-church.de/wp-content/uploads/2024/06/Quality-Time.jpg
END:VEVENT
BEGIN:VEVENT
DTSTART;TZID=Europe/Berlin:20251019T103000
DTEND;TZID=Europe/Berlin:20251019T120000
DTSTAMP:20260420T124904
CREATED:20250828T134648Z
LAST-MODIFIED:20250828T134648Z
UID:5770-1760869800-1760875200@your-church.de
SUMMARY:Gottesdienst
DESCRIPTION:
URL:https://your-church.de/event/gottesdienst-16/
LOCATION:YOUR CHURCH\, Von-Koenig-StraÃŸe 6\, Sachsenheim\, 74343\, Deutschland
CATEGORIES:Gottesdienst
ATTACH;FMTTYPE=image/jpeg:https://your-church.de/wp-content/uploads/2024/06/Gottesdienst.jpg
END:VEVENT
BEGIN:VEVENT
DTSTART;TZID=Europe/Berlin:20251012T103000
DTEND;TZID=Europe/Berlin:20251012T120000
DTSTAMP:20260420T124904
CREATED:20250828T134611Z
LAST-MODIFIED:20250828T134611Z
UID:5768-1760265000-1760270400@your-church.de
SUMMARY:Lobpreis & Anbetung
DESCRIPTION:
URL:https://your-church.de/event/lobpreis-anbetung-12/
LOCATION:YOUR CHURCH\, Von-Koenig-StraÃŸe 6\, Sachsenheim\, 74343\, Deutschland
CATEGORIES:Gottesdienst,Lo & An
ATTACH;FMTTYPE=image/jpeg:https://your-church.de/wp-content/uploads/2024/06/Lobpreis-Anbetung.jpg
END:VEVENT
END:VCALENDAR